BEGIN:VCALENDAR
PRODID:-//AT Content Types//AT Event//EN
VERSION:2.0
METHOD:PUBLISH
BEGIN:VEVENT
DTSTAMP:20260423T101211Z
CREATED:20120822T164856Z
UID:ATEvent-9a1c2fd3-a385-4e30-990d-229be40faa66
LAST-MODIFIED:20120822T164944Z
SUMMARY:Phi Beta Lambda Rush Interviews
DTSTART:20120916T120000Z
DTEND:20120916T210000Z
LOCATION:See Description
CATEGORIES:Student Organizations
CLASS:PUBLIC
END:VEVENT
END:VCALENDAR
