BEGIN:VCALENDAR
PRODID:-//AT Content Types//AT Event//EN
VERSION:1.0
BEGIN:VEVENT
DTSTART:20130226T230000Z
DTEND:20130227T003000Z
DCREATED:20130222T183137Z
UID:ATEvent-422e6808-dc49-4e81-8f22-9a2051a145d8
SEQUENCE:0
LAST-MODIFIED:20130222T183206Z
SUMMARY:SAP software workshop
LOCATION:206 Business Building - computer lab
PRIORITY:3
TRANSP:0
END:VEVENT
END:VCALENDAR
